BEGIN:VCALENDAR
VERSION:2.0
PRODID:-//Damar Charter Academy - ECPv5.8.1//NONSGML v1.0//EN
CALSCALE:GREGORIAN
METHOD:PUBLISH
X-WR-CALNAME:Damar Charter Academy
X-ORIGINAL-URL:https://www.damarcharteracademy.org
X-WR-CALDESC:Events for Damar Charter Academy
BEGIN:VTIMEZONE
TZID:UTC
BEGIN:STANDARD
TZOFFSETFROM:+0000
TZOFFSETTO:+0000
TZNAME:UTC
DTSTART:20180101T000000
END:STANDARD
END:VTIMEZONE
BEGIN:VEVENT
DTSTART;VALUE=DATE:20181005
DTEND;VALUE=DATE:20181006
DTSTAMP:20260422T063144
CREATED:20180719T190746Z
LAST-MODIFIED:20180719T190746Z
UID:541-1538697600-1538783999@www.damarcharteracademy.org
SUMMARY:END OF 1ST QUARTER
DESCRIPTION:
URL:https://www.damarcharteracademy.org/event/end-of-1st-quarter/
CATEGORIES:2018-2019
END:VEVENT
END:VCALENDAR