BEGIN:VCALENDAR
VERSION:2.0
PRODID:-//Damar Charter Academy - ECPv5.8.1//NONSGML v1.0//EN
CALSCALE:GREGORIAN
METHOD:PUBLISH
X-WR-CALNAME:Damar Charter Academy
X-ORIGINAL-URL:https://www.damarcharteracademy.org
X-WR-CALDESC:Events for Damar Charter Academy
BEGIN:VTIMEZONE
TZID:UTC
BEGIN:STANDARD
TZOFFSETFROM:+0000
TZOFFSETTO:+0000
TZNAME:UTC
DTSTART:20190101T000000
END:STANDARD
END:VTIMEZONE
BEGIN:VEVENT
DTSTART;VALUE=DATE:20190531
DTEND;VALUE=DATE:20190601
DTSTAMP:20260421T223203
CREATED:20190430T132019Z
LAST-MODIFIED:20190430T132051Z
UID:1215-1559260800-1559347199@www.damarcharteracademy.org
SUMMARY:GRADUATION
DESCRIPTION:
URL:https://www.damarcharteracademy.org/event/graduation/
CATEGORIES:2018-2019
END:VEVENT
END:VCALENDAR