BEGIN:VCALENDAR
VERSION:2.0
PRODID:-//Damar Charter Academy - ECPv5.8.1//NONSGML v1.0//EN
CALSCALE:GREGORIAN
METHOD:PUBLISH
X-WR-CALNAME:Damar Charter Academy
X-ORIGINAL-URL:https://www.damarcharteracademy.org
X-WR-CALDESC:Events for Damar Charter Academy
BEGIN:VTIMEZONE
TZID:UTC
BEGIN:STANDARD
TZOFFSETFROM:+0000
TZOFFSETTO:+0000
TZNAME:UTC
DTSTART:20190101T000000
END:STANDARD
END:VTIMEZONE
BEGIN:VEVENT
DTSTART;VALUE=DATE:20190121
DTEND;VALUE=DATE:20190122
DTSTAMP:20260422T012829
CREATED:20180719T192225Z
LAST-MODIFIED:20180719T192225Z
UID:555-1548028800-1548115199@www.damarcharteracademy.org
SUMMARY:MLK\, JR. DAY
DESCRIPTION:
URL:https://www.damarcharteracademy.org/event/mlk-jr-day/
CATEGORIES:2018-2019
END:VEVENT
END:VCALENDAR