BEGIN:VCALENDAR
VERSION:2.0
PRODID:-//Damar Charter Academy - ECPv5.8.1//NONSGML v1.0//EN
CALSCALE:GREGORIAN
METHOD:PUBLISH
X-WR-CALNAME:Damar Charter Academy
X-ORIGINAL-URL:https://www.damarcharteracademy.org
X-WR-CALDESC:Events for Damar Charter Academy
BEGIN:VTIMEZONE
TZID:UTC
BEGIN:STANDARD
TZOFFSETFROM:+0000
TZOFFSETTO:+0000
TZNAME:UTC
DTSTART:20180101T000000
END:STANDARD
END:VTIMEZONE
BEGIN:VEVENT
DTSTART;TZID=UTC:20181024T180000
DTEND;TZID=UTC:20181024T180000
DTSTAMP:20260422T063005
CREATED:20180731T175446Z
LAST-MODIFIED:20180731T175742Z
UID:943-1540404000-1540404000@www.damarcharteracademy.org
SUMMARY:OCTOBER
DESCRIPTION:
URL:https://www.damarcharteracademy.org/event/october-24-2018/
CATEGORIES:Board Meetings
END:VEVENT
END:VCALENDAR