BEGIN:VCALENDAR
VERSION:2.0
PRODID:-//Damar Charter Academy - ECPv5.8.1//NONSGML v1.0//EN
CALSCALE:GREGORIAN
METHOD:PUBLISH
X-WR-CALNAME:Damar Charter Academy
X-ORIGINAL-URL:https://www.damarcharteracademy.org
X-WR-CALDESC:Events for Damar Charter Academy
BEGIN:VTIMEZONE
TZID:UTC
BEGIN:STANDARD
TZOFFSETFROM:+0000
TZOFFSETTO:+0000
TZNAME:UTC
DTSTART:20190101T000000
END:STANDARD
END:VTIMEZONE
BEGIN:VEVENT
DTSTART;VALUE=DATE:20190218
DTEND;VALUE=DATE:20190219
DTSTAMP:20260422T003415
CREATED:20180719T192610Z
LAST-MODIFIED:20190208T170212Z
UID:557-1550448000-1550534399@www.damarcharteracademy.org
SUMMARY:SNOW MAKE-UP DAY (PRESIDENTS' DAY)
DESCRIPTION:
URL:https://www.damarcharteracademy.org/event/presidents-day/
CATEGORIES:2018-2019
END:VEVENT
END:VCALENDAR