BEGIN:VCALENDAR
VERSION:2.0
PRODID:-//Damar Charter Academy - ECPv5.8.1//NONSGML v1.0//EN
CALSCALE:GREGORIAN
METHOD:PUBLISH
X-WR-CALNAME:Damar Charter Academy
X-ORIGINAL-URL:https://www.damarcharteracademy.org
X-WR-CALDESC:Events for Damar Charter Academy
BEGIN:VTIMEZONE
TZID:UTC
BEGIN:STANDARD
TZOFFSETFROM:+0000
TZOFFSETTO:+0000
TZNAME:UTC
DTSTART:20180101T000000
END:STANDARD
END:VTIMEZONE
BEGIN:VEVENT
DTSTART;VALUE=DATE:20180730
DTEND;VALUE=DATE:20180801
DTSTAMP:20260422T093513
CREATED:20180719T185355Z
LAST-MODIFIED:20180719T185355Z
UID:535-1532908800-1533081599@www.damarcharteracademy.org
SUMMARY:TEACHER WORK DAYS
DESCRIPTION:
URL:https://www.damarcharteracademy.org/event/teacher-work-days/
CATEGORIES:2018-2019
END:VEVENT
END:VCALENDAR