BEGIN:VCALENDAR
VERSION:2.0
PRODID:-//Damar Charter Academy - ECPv5.8.1//NONSGML v1.0//EN
CALSCALE:GREGORIAN
METHOD:PUBLISH
X-WR-CALNAME:Damar Charter Academy
X-ORIGINAL-URL:https://www.damarcharteracademy.org
X-WR-CALDESC:Events for Damar Charter Academy
BEGIN:VTIMEZONE
TZID:UTC
BEGIN:STANDARD
TZOFFSETFROM:+0000
TZOFFSETTO:+0000
TZNAME:UTC
DTSTART:20190101T000000
END:STANDARD
END:VTIMEZONE
BEGIN:VEVENT
DTSTART;VALUE=DATE:20190516
DTEND;VALUE=DATE:20190517
DTSTAMP:20260421T195201
CREATED:20190430T131402Z
LAST-MODIFIED:20190430T131535Z
UID:1211-1557964800-1558051199@www.damarcharteracademy.org
SUMMARY:PROM
DESCRIPTION:
URL:https://www.damarcharteracademy.org/event/prom/
LOCATION:Jones Crossing\, 4161 E Allison Rd\, Mooresville\, IN\, 46158\, United States
CATEGORIES:2018-2019
END:VEVENT
END:VCALENDAR