BEGIN:VCALENDAR
VERSION:2.0
PRODID:-//Damar Charter Academy - ECPv5.8.1//NONSGML v1.0//EN
CALSCALE:GREGORIAN
METHOD:PUBLISH
X-WR-CALNAME:Damar Charter Academy
X-ORIGINAL-URL:https://www.damarcharteracademy.org
X-WR-CALDESC:Events for Damar Charter Academy
BEGIN:VTIMEZONE
TZID:UTC
BEGIN:STANDARD
TZOFFSETFROM:+0000
TZOFFSETTO:+0000
TZNAME:UTC
DTSTART:20190101T000000
END:STANDARD
END:VTIMEZONE
BEGIN:VEVENT
DTSTART;VALUE=DATE:20190605
DTEND;VALUE=DATE:20190606
DTSTAMP:20260421T181829
CREATED:20180719T194408Z
LAST-MODIFIED:20190208T170242Z
UID:567-1559692800-1559779199@www.damarcharteracademy.org
SUMMARY:SNOW MAKE-UP DAY (END OF 4TH QUARTER)
DESCRIPTION:
URL:https://www.damarcharteracademy.org/event/end-of-4th-quarter/
CATEGORIES:2018-2019
END:VEVENT
END:VCALENDAR